BEGIN:VCALENDAR
VERSION:2.0
PRODID:-//Main Street Reads - ECPv6.15.20//NONSGML v1.0//EN
CALSCALE:GREGORIAN
METHOD:PUBLISH
X-ORIGINAL-URL:https://mainstreetreads.com
X-WR-CALDESC:Events for Main Street Reads
REFRESH-INTERVAL;VALUE=DURATION:PT1H
X-Robots-Tag:noindex
X-PUBLISHED-TTL:PT1H
BEGIN:VTIMEZONE
TZID:America/New_York
BEGIN:DAYLIGHT
TZOFFSETFROM:-0500
TZOFFSETTO:-0400
TZNAME:EDT
DTSTART:20180311T070000
END:DAYLIGHT
BEGIN:STANDARD
TZOFFSETFROM:-0400
TZOFFSETTO:-0500
TZNAME:EST
DTSTART:20181104T060000
END:STANDARD
BEGIN:DAYLIGHT
TZOFFSETFROM:-0500
TZOFFSETTO:-0400
TZNAME:EDT
DTSTART:20190310T070000
END:DAYLIGHT
BEGIN:STANDARD
TZOFFSETFROM:-0400
TZOFFSETTO:-0500
TZNAME:EST
DTSTART:20191103T060000
END:STANDARD
BEGIN:DAYLIGHT
TZOFFSETFROM:-0500
TZOFFSETTO:-0400
TZNAME:EDT
DTSTART:20200308T070000
END:DAYLIGHT
BEGIN:STANDARD
TZOFFSETFROM:-0400
TZOFFSETTO:-0500
TZNAME:EST
DTSTART:20201101T060000
END:STANDARD
END:VTIMEZONE
BEGIN:VEVENT
DTSTART;TZID=America/New_York:20191008T183000
DTEND;TZID=America/New_York:20191008T200000
DTSTAMP:20260422T114844
CREATED:20190618T171755Z
LAST-MODIFIED:20190915T182744Z
UID:930-1570559400-1570564800@mainstreetreads.com
SUMMARY:Thrill in the 'Ville: Thriller & Mystery Book Club
DESCRIPTION:For mystery and thriller readers\, we meet on the third Tuesday of each month. Our first stunning read was The Silent Patient by Alex Michaelides\, and we’re following that up with a psychological thriller titled\, A Nearly Normal Family by M. T. Edwardsson. Those ordering/purchasing the book from Main Street Reads will enjoy a special price of $22.99 (normally $26.99). \nHailed as a stunning psychological thriller\, A Nearly Normal Family is told from three differing viewpoints – father\, mother and daughter – and asks the question: ‘What would you do if your child was accused of murder?’. This is a thriller everyone is talking about this summer! \nUpcoming Meetings: \n\nNovember 19\, 2019\nDecember 17\, 2019\n\nHave a book you’d like on the list? Let us know!
URL:https://mainstreetreads.com/event/thrill-in-the-ville-thriller-mystery-book-club/
LOCATION:Main Street Reads\, 115 S. Main St.\, Summerville\, SC\, 29483\, United States
CATEGORIES:Book Club
ATTACH;FMTTYPE=image/png:https://mainstreetreads.com/wp-content/uploads/2019/06/Thriller-Group.png
ORGANIZER;CN="Main Street Reads":MAILTO:shari@writerswin.com
END:VEVENT
END:VCALENDAR