BEGIN:VCALENDAR
VERSION:2.0
PRODID:-//Main Street Reads - ECPv6.15.20//NONSGML v1.0//EN
CALSCALE:GREGORIAN
METHOD:PUBLISH
X-WR-CALNAME:Main Street Reads
X-ORIGINAL-URL:https://mainstreetreads.com
X-WR-CALDESC:Events for Main Street Reads
REFRESH-INTERVAL;VALUE=DURATION:PT1H
X-Robots-Tag:noindex
X-PUBLISHED-TTL:PT1H
BEGIN:VTIMEZONE
TZID:America/New_York
BEGIN:DAYLIGHT
TZOFFSETFROM:-0500
TZOFFSETTO:-0400
TZNAME:EDT
DTSTART:20180311T070000
END:DAYLIGHT
BEGIN:STANDARD
TZOFFSETFROM:-0400
TZOFFSETTO:-0500
TZNAME:EST
DTSTART:20181104T060000
END:STANDARD
BEGIN:DAYLIGHT
TZOFFSETFROM:-0500
TZOFFSETTO:-0400
TZNAME:EDT
DTSTART:20190310T070000
END:DAYLIGHT
BEGIN:STANDARD
TZOFFSETFROM:-0400
TZOFFSETTO:-0500
TZNAME:EST
DTSTART:20191103T060000
END:STANDARD
BEGIN:DAYLIGHT
TZOFFSETFROM:-0500
TZOFFSETTO:-0400
TZNAME:EDT
DTSTART:20200308T070000
END:DAYLIGHT
BEGIN:STANDARD
TZOFFSETFROM:-0400
TZOFFSETTO:-0500
TZNAME:EST
DTSTART:20201101T060000
END:STANDARD
END:VTIMEZONE
BEGIN:VEVENT
DTSTART;TZID=America/New_York:20190425T170000
DTEND;TZID=America/New_York:20190425T190000
DTSTAMP:20260422T203909
CREATED:20190414T143941Z
LAST-MODIFIED:20190414T144822Z
UID:694-1556211600-1556218800@mainstreetreads.com
SUMMARY:Book Signing: Tigers Love Bubble Baths
DESCRIPTION:On Thursday\, April 25\, 2019\, Main Street Reads will host visiting author Mary K. Savarese for the launch of her mystery novel\, Tigers Love Bubble Baths & Obsession Perfume (who knew!) This cozy mystery with a spiritual twist has been called “An engrossing saga of love\, betrayal\, murder & underlying wishes and dreams about life’s progression and end” by Midwest Book Review.
URL:https://mainstreetreads.com/event/book-signing-tigers-love-bubble-baths/
LOCATION:Main Street Reads\, 115 S. Main St.\, Summerville\, SC\, 29483\, United States
CATEGORIES:Book Signing
ATTACH;FMTTYPE=image/jpeg:https://mainstreetreads.com/wp-content/uploads/2019/04/Mary-K-Savarese.jpg
ORGANIZER;CN="Main Street Reads":MAILTO:shari@writerswin.com
END:VEVENT
END:VCALENDAR