BEGIN:VCALENDAR
VERSION:2.0
PRODID:-//Main Street Reads - ECPv6.15.20//NONSGML v1.0//EN
CALSCALE:GREGORIAN
METHOD:PUBLISH
X-WR-CALNAME:Main Street Reads
X-ORIGINAL-URL:https://mainstreetreads.com
X-WR-CALDESC:Events for Main Street Reads
REFRESH-INTERVAL;VALUE=DURATION:PT1H
X-Robots-Tag:noindex
X-PUBLISHED-TTL:PT1H
BEGIN:VTIMEZONE
TZID:America/New_York
BEGIN:DAYLIGHT
TZOFFSETFROM:-0500
TZOFFSETTO:-0400
TZNAME:EDT
DTSTART:20200308T070000
END:DAYLIGHT
BEGIN:STANDARD
TZOFFSETFROM:-0400
TZOFFSETTO:-0500
TZNAME:EST
DTSTART:20201101T060000
END:STANDARD
BEGIN:DAYLIGHT
TZOFFSETFROM:-0500
TZOFFSETTO:-0400
TZNAME:EDT
DTSTART:20210314T070000
END:DAYLIGHT
BEGIN:STANDARD
TZOFFSETFROM:-0400
TZOFFSETTO:-0500
TZNAME:EST
DTSTART:20211107T060000
END:STANDARD
BEGIN:DAYLIGHT
TZOFFSETFROM:-0500
TZOFFSETTO:-0400
TZNAME:EDT
DTSTART:20220313T070000
END:DAYLIGHT
BEGIN:STANDARD
TZOFFSETFROM:-0400
TZOFFSETTO:-0500
TZNAME:EST
DTSTART:20221106T060000
END:STANDARD
END:VTIMEZONE
BEGIN:VEVENT
DTSTART;TZID=America/New_York:20210819T180000
DTEND;TZID=America/New_York:20210819T200000
DTSTAMP:20260422T162807
CREATED:20201115T065529Z
LAST-MODIFIED:20220305T165157Z
UID:3718-1629396000-1629403200@mainstreetreads.com
SUMMARY:Third Thursday: Music and Fun for All!
DESCRIPTION:THIS MONTH: “SUMMER in SUMMERVILLE” is the theme… We’ll offer up some cooling treats for visiting readers! \nOn the third Thursday of each month Historic Downtown Summerville transforms into a special marketplace featuring local entertainment\, craft vendors and artisans\, to complement the extended hours of eclectic shops\, boutiques and restaurants. \nEnjoy partying out on the square\, sales and treats at Main Street Reads\, and singer/ songwriter/guitarist Mike Kaltofen keeping the vibe cool and festive as we enjoy our downtown community and plenty of book love. \nSee you on Main Street!
URL:https://mainstreetreads.com/event/third-thursday-music-and-fun-for-all/
LOCATION:Main Street Reads\, 115 S. Main St.\, Summerville\, SC\, 29483\, United States
CATEGORIES:Celebration,Third Thursday
ATTACH;FMTTYPE=image/png:https://mainstreetreads.com/wp-content/uploads/2020/11/Third-Thursday.png
ORGANIZER;CN="Main Street Reads":MAILTO:shari@writerswin.com
END:VEVENT
END:VCALENDAR