BEGIN:VCALENDAR
VERSION:2.0
PRODID:-//Main Street Reads - ECPv6.15.20//NONSGML v1.0//EN
CALSCALE:GREGORIAN
METHOD:PUBLISH
X-ORIGINAL-URL:https://mainstreetreads.com
X-WR-CALDESC:Events for Main Street Reads
REFRESH-INTERVAL;VALUE=DURATION:PT1H
X-Robots-Tag:noindex
X-PUBLISHED-TTL:PT1H
BEGIN:VTIMEZONE
TZID:America/New_York
BEGIN:DAYLIGHT
TZOFFSETFROM:-0500
TZOFFSETTO:-0400
TZNAME:EDT
DTSTART:20180311T070000
END:DAYLIGHT
BEGIN:STANDARD
TZOFFSETFROM:-0400
TZOFFSETTO:-0500
TZNAME:EST
DTSTART:20181104T060000
END:STANDARD
BEGIN:DAYLIGHT
TZOFFSETFROM:-0500
TZOFFSETTO:-0400
TZNAME:EDT
DTSTART:20190310T070000
END:DAYLIGHT
BEGIN:STANDARD
TZOFFSETFROM:-0400
TZOFFSETTO:-0500
TZNAME:EST
DTSTART:20191103T060000
END:STANDARD
BEGIN:DAYLIGHT
TZOFFSETFROM:-0500
TZOFFSETTO:-0400
TZNAME:EDT
DTSTART:20200308T070000
END:DAYLIGHT
BEGIN:STANDARD
TZOFFSETFROM:-0400
TZOFFSETTO:-0500
TZNAME:EST
DTSTART:20201101T060000
END:STANDARD
END:VTIMEZONE
BEGIN:VEVENT
DTSTART;TZID=America/New_York:20190713T100000
DTEND;TZID=America/New_York:20190713T130000
DTSTAMP:20260419T112742
CREATED:20190701T043441Z
LAST-MODIFIED:20190701T043619Z
UID:983-1563012000-1563022800@mainstreetreads.com
SUMMARY:Launch Party: Gardenia Duty by Kathleen Varn
DESCRIPTION:Charleston’s own Kathleen Varn will be at Main Street Reads to celebrate the much anticipated launch of Gardenia Duty! We’ll also have copies of Kat’s first novel\, Ameera Unveiled\, on hand for sale and signing. This begins a six month long tour for Kathleen that will culminate with her appearance at the Pulpwood Queens national bookclub conference in Texas in January\, 2020. \nAbout Gardenia Duty\nIn 1957 jobs are scarce in rural Ashland\, Alabama. Bobby Higgins is facing life decisions; his family’s farm struggles and threat of the draft hangs over 18-year-old males as the Cold War rumbles in the distance. Bobby heads off to boot camp\, vowing to provide for his family from his pay. Between shore and sea duty\, he leaves broken hearts in every port. When his own heart is stolen by Rose\, he’s shocked to learn that she comes with four daughters\, a package deal he’s unsure he wants. But when Rose disappears\, Bobby finds her and persuades her to marry him. \nSomehow they navigate their way through the trials of marriage and parenting as he fulfills his patriotic career and his promise to raise four willful daughters. In the spring of 2004\, his daughters are brought together by grief. They forge new bonds\, sharing their joys\, losses\, regrets\, and ultimately family secrets that will seal all their fates…if they can summon the courage to report for duty. \nAbout Kathleen Varn\nKat Varn\nKat Varn’s connection to Charleston began as the oldest daughter in a military family. Her love affair with words manifested when she turned four and taught herself to read. As she grew older\, books and reading were an escape\, but journaling eventually led her to her first novel\, Ameera Unveiled. This year she was honored to be invited to participate in the 2019 American Lung Association Oxygen Ball’s Lowcountry Dancing with the Stars competition\, which she WON!
URL:https://mainstreetreads.com/event/launch-party-gardenia-duty-by-kathleen-varn/
CATEGORIES:Book Signing,Celebration
ATTACH;FMTTYPE=image/jpeg:https://mainstreetreads.com/wp-content/uploads/2019/07/Kathleen-Varn-at-Main-Street-reads.jpg
END:VEVENT
END:VCALENDAR