BEGIN:VCALENDAR
VERSION:2.0
PRODID:-//Main Street Reads - ECPv6.15.20//NONSGML v1.0//EN
CALSCALE:GREGORIAN
METHOD:PUBLISH
X-WR-CALNAME:Main Street Reads
X-ORIGINAL-URL:https://mainstreetreads.com
X-WR-CALDESC:Events for Main Street Reads
REFRESH-INTERVAL;VALUE=DURATION:PT1H
X-Robots-Tag:noindex
X-PUBLISHED-TTL:PT1H
BEGIN:VTIMEZONE
TZID:America/New_York
BEGIN:DAYLIGHT
TZOFFSETFROM:-0500
TZOFFSETTO:-0400
TZNAME:EDT
DTSTART:20190310T070000
END:DAYLIGHT
BEGIN:STANDARD
TZOFFSETFROM:-0400
TZOFFSETTO:-0500
TZNAME:EST
DTSTART:20191103T060000
END:STANDARD
BEGIN:DAYLIGHT
TZOFFSETFROM:-0500
TZOFFSETTO:-0400
TZNAME:EDT
DTSTART:20200308T070000
END:DAYLIGHT
BEGIN:STANDARD
TZOFFSETFROM:-0400
TZOFFSETTO:-0500
TZNAME:EST
DTSTART:20201101T060000
END:STANDARD
BEGIN:DAYLIGHT
TZOFFSETFROM:-0500
TZOFFSETTO:-0400
TZNAME:EDT
DTSTART:20210314T070000
END:DAYLIGHT
BEGIN:STANDARD
TZOFFSETFROM:-0400
TZOFFSETTO:-0500
TZNAME:EST
DTSTART:20211107T060000
END:STANDARD
END:VTIMEZONE
BEGIN:VEVENT
DTSTART;TZID=America/New_York:20200827T190000
DTEND;TZID=America/New_York:20200827T200000
DTSTAMP:20260419T184531
CREATED:20200730T031153Z
LAST-MODIFIED:20200730T031226Z
UID:2940-1598554800-1598558400@mainstreetreads.com
SUMMARY:Reader Meet Writer: The Good Luck Stone with Heather Bell Adams
DESCRIPTION:Join us on Thursday\, Aug 27th from 7:00 pm  – 8:00 pm for an entertaining discussion of Heather Bell Adams’ newly released novel\, The Good Luck Stone. Email us at mainstreetreads@gmail.com for your confirmation link and password to attend. The book is available from us or click the link in the title to grab it from our Bookshop warehouse! \n\n\n\nHer desperate decision during World War II changed everything. Now\, 70 years later\, her secret is unraveling. \nAt ninety years old\, Audrey Thorpe still lives in a historic mansion on palm-tree-lined Victory Drive\, determined to retain her independence. But when her health begins to fade\, her family hires a part-time caregiver\, Laurel. The two women seem to bond-until Audrey disappears. Unbeknownst to Laurel\, Audrey has harbored a secret for 70 years\, since her time as a nurse in the South Pacific during World War II. \nAs the story moves between the verdant jungles of the war-torn Philippines and the glitter of modern-day Savannah\, Georgia\, friendships new and old are tested. Along the way\, Audrey grapples with one of life’s heart-wrenching truths: You can only outrun your secrets for so long. \nHeather Bell Adams is the author of the novels\, Maranatha Road (West Virginia University Press 2017) and The Good Luck Stone (Haywire Books 2020). Maranatha Road won the gold medal for the Southeast region in the Independent Publisher Book Awards and was named to Deep South Magazine‘s Fall/Winter Reading List. The Good Luck Stone\, which won the Grassic Short Novel Prize\, appears on Deep South Magazine’s Summer Reading List and Most Anticipated Small Press Novel Lists for The Big Other and BuzzFeed. \nHeather’s short fiction\, which has won the Carrie McCray Memorial Literary Award and James Still Fiction Prize\, appears in The Thomas Wolfe Review\, Atticus Review\, The Petigru Review\, Pisgah Review\, Pembroke Magazine\, Broad River Review\, and other journals. \nHeather is originally from Hendersonville\, North Carolina and now lives in Raleigh where she works as a lawyer. A nationally-recognized scholar on the works of Ron Rash\, she also volunteers on the Raleigh Review fiction staff.
URL:https://mainstreetreads.com/event/reader-meet-writer-the-good-luck-stone-with-heather-bell-adams/
LOCATION:Main Street Reads\, 115 S. Main St.\, Summerville\, SC\, 29483\, United States
CATEGORIES:Book Discussion,Reader Meet Writer,Virtual Author Event
ATTACH;FMTTYPE=image/png:https://mainstreetreads.com/wp-content/uploads/2020/07/Reader-Meet-Writer-Heather-Bell-Adams.png
ORGANIZER;CN="Main Street Reads":MAILTO:shari@writerswin.com
END:VEVENT
END:VCALENDAR