BEGIN:VCALENDAR
VERSION:2.0
PRODID:-//Main Street Reads - ECPv6.15.20//NONSGML v1.0//EN
CALSCALE:GREGORIAN
METHOD:PUBLISH
X-ORIGINAL-URL:https://mainstreetreads.com
X-WR-CALDESC:Events for Main Street Reads
REFRESH-INTERVAL;VALUE=DURATION:PT1H
X-Robots-Tag:noindex
X-PUBLISHED-TTL:PT1H
BEGIN:VTIMEZONE
TZID:America/New_York
BEGIN:DAYLIGHT
TZOFFSETFROM:-0500
TZOFFSETTO:-0400
TZNAME:EDT
DTSTART:20180311T070000
END:DAYLIGHT
BEGIN:STANDARD
TZOFFSETFROM:-0400
TZOFFSETTO:-0500
TZNAME:EST
DTSTART:20181104T060000
END:STANDARD
BEGIN:DAYLIGHT
TZOFFSETFROM:-0500
TZOFFSETTO:-0400
TZNAME:EDT
DTSTART:20190310T070000
END:DAYLIGHT
BEGIN:STANDARD
TZOFFSETFROM:-0400
TZOFFSETTO:-0500
TZNAME:EST
DTSTART:20191103T060000
END:STANDARD
BEGIN:DAYLIGHT
TZOFFSETFROM:-0500
TZOFFSETTO:-0400
TZNAME:EDT
DTSTART:20200308T070000
END:DAYLIGHT
BEGIN:STANDARD
TZOFFSETFROM:-0400
TZOFFSETTO:-0500
TZNAME:EST
DTSTART:20201101T060000
END:STANDARD
END:VTIMEZONE
BEGIN:VEVENT
DTSTART;TZID=America/New_York:20190817T100000
DTEND;TZID=America/New_York:20190817T130000
DTSTAMP:20260422T102550
CREATED:20190726T183032Z
LAST-MODIFIED:20190726T183032Z
UID:1090-1566036000-1566046800@mainstreetreads.com
SUMMARY:Booksigning: City of Peace with Henry G. Brinton
DESCRIPTION:Virginia-based author Henry G. Brinton will be in the lowcountry for a special “two-fer” event! On Friday\, August 16th\, Henry will be signing his debut novel\, City of Peace\, at Buxton Books’ new location at 160 King Street in downtown Charleston. Then on Saturday\, Henry will be at Main Street Reads from 10 a.m. – 1 p.m. – Two chances to meet the author and grab your own copy of this important work! \nToday’s news is full of immigration bans\, fear of terrorism\, and widespread suspicion of Muslims. Split into competing faiths and ideologies\, Americans are feeling anxious\, fearful\, and deeply suspicious of their neighbors. \nCity of Peace is a gripping and fast-paced mystery story that will engage people politically and spiritually\, leaving them with fresh insight into how they can overcome polarizing divisions today. \nHenry G. Brinton is an author and a Presbyterian pastor who has written on religion and culture for The New York Times\, The Washington Post\, USA Today\, and Huffington Post. His interfaith work and appreciation for the wisdom of the ancient world began on an archaeological dig in the Galilee region of Israel\, while he was a college student. In his writing and ministry\, Henry is committed to building bridges between people of diverse cultures\, religions\, and political positions.
URL:https://mainstreetreads.com/event/booksigning-city-of-peace-with-henry-g-brinton/
CATEGORIES:Book Signing
ATTACH;FMTTYPE=image/jpeg:https://mainstreetreads.com/wp-content/uploads/2019/07/Henry-Brinton-City-of-Peace.jpg
END:VEVENT
END:VCALENDAR