BEGIN:VCALENDAR
VERSION:2.0
PRODID:-//Main Street Reads - ECPv6.15.20//NONSGML v1.0//EN
CALSCALE:GREGORIAN
METHOD:PUBLISH
X-WR-CALNAME:Main Street Reads
X-ORIGINAL-URL:https://mainstreetreads.com
X-WR-CALDESC:Events for Main Street Reads
REFRESH-INTERVAL;VALUE=DURATION:PT1H
X-Robots-Tag:noindex
X-PUBLISHED-TTL:PT1H
BEGIN:VTIMEZONE
TZID:America/New_York
BEGIN:DAYLIGHT
TZOFFSETFROM:-0500
TZOFFSETTO:-0400
TZNAME:EDT
DTSTART:20180311T070000
END:DAYLIGHT
BEGIN:STANDARD
TZOFFSETFROM:-0400
TZOFFSETTO:-0500
TZNAME:EST
DTSTART:20181104T060000
END:STANDARD
BEGIN:DAYLIGHT
TZOFFSETFROM:-0500
TZOFFSETTO:-0400
TZNAME:EDT
DTSTART:20190310T070000
END:DAYLIGHT
BEGIN:STANDARD
TZOFFSETFROM:-0400
TZOFFSETTO:-0500
TZNAME:EST
DTSTART:20191103T060000
END:STANDARD
BEGIN:DAYLIGHT
TZOFFSETFROM:-0500
TZOFFSETTO:-0400
TZNAME:EDT
DTSTART:20200308T070000
END:DAYLIGHT
BEGIN:STANDARD
TZOFFSETFROM:-0400
TZOFFSETTO:-0500
TZNAME:EST
DTSTART:20201101T060000
END:STANDARD
END:VTIMEZONE
BEGIN:VEVENT
DTSTART;TZID=America/New_York:20190407T130000
DTEND;TZID=America/New_York:20190407T150000
DTSTAMP:20260422T131703
CREATED:20190330T130033Z
LAST-MODIFIED:20190331T034437Z
UID:640-1554642000-1554649200@mainstreetreads.com
SUMMARY:Book Signing with W.F. Walsh - Red Carpet Ransom and The Umbrella Option
DESCRIPTION:You may know him as meteorologist Bill Walsh… But to readers he’s always known as W.F. Walsh\, and we’re thrilled to announce he’ll be at Main Street Reads Sunday\, April 7\, between 1 and 3 p.m. on the last day of the Flowertown Festival! \nHe’ll be on hand to sign his popular books Red Carpet Ransom and The Umbrella Option\, and to give you a sneak peek into his next book\, Black Duck\, releasing this May! \nW.F. Walsh is a two-time Emmy Award-winning television personality and has spent over twenty years in television news and entertainment. As a producer\, Walsh has been awarded five Telly Awards for his work on various programs\, from news to reality. He is also a lieutenant colonel in the United States Air Force Reserve and has served on military missions to both Iraq and Afghanistan\, among many other locations around the world. He has been awarded two Meritorious Service Medals\, the Air Force Commendation Medal\, the Navy and Marine Corps Achievement Medal\, the Air Force Achievement Medal\, and the Global War on Terrorism Service Medal\, among others.
URL:https://mainstreetreads.com/event/book-signing-with-w-f-walsh-red-carpet-ransom-and-the-umbrella-option/
LOCATION:Main Street Reads\, 115 S. Main St.\, Summerville\, SC\, 29483\, United States
CATEGORIES:Book Signing
ATTACH;FMTTYPE=image/jpeg:https://mainstreetreads.com/wp-content/uploads/2019/03/Bill-Walsh-at-Main-Street-Reads.jpg
ORGANIZER;CN="Main Street Reads":MAILTO:shari@writerswin.com
END:VEVENT
END:VCALENDAR