BEGIN:VCALENDAR
VERSION:2.0
PRODID:-//Main Street Reads - ECPv6.15.20//NONSGML v1.0//EN
CALSCALE:GREGORIAN
METHOD:PUBLISH
X-WR-CALNAME:Main Street Reads
X-ORIGINAL-URL:https://mainstreetreads.com
X-WR-CALDESC:Events for Main Street Reads
REFRESH-INTERVAL;VALUE=DURATION:PT1H
X-Robots-Tag:noindex
X-PUBLISHED-TTL:PT1H
BEGIN:VTIMEZONE
TZID:America/New_York
BEGIN:DAYLIGHT
TZOFFSETFROM:-0500
TZOFFSETTO:-0400
TZNAME:EDT
DTSTART:20250309T070000
END:DAYLIGHT
BEGIN:STANDARD
TZOFFSETFROM:-0400
TZOFFSETTO:-0500
TZNAME:EST
DTSTART:20251102T060000
END:STANDARD
BEGIN:DAYLIGHT
TZOFFSETFROM:-0500
TZOFFSETTO:-0400
TZNAME:EDT
DTSTART:20260308T070000
END:DAYLIGHT
BEGIN:STANDARD
TZOFFSETFROM:-0400
TZOFFSETTO:-0500
TZNAME:EST
DTSTART:20261101T060000
END:STANDARD
BEGIN:DAYLIGHT
TZOFFSETFROM:-0500
TZOFFSETTO:-0400
TZNAME:EDT
DTSTART:20270314T070000
END:DAYLIGHT
BEGIN:STANDARD
TZOFFSETFROM:-0400
TZOFFSETTO:-0500
TZNAME:EST
DTSTART:20271107T060000
END:STANDARD
END:VTIMEZONE
BEGIN:VEVENT
DTSTART;TZID=America/New_York:20261025T163000
DTEND;TZID=America/New_York:20261025T163000
DTSTAMP:20260419T104219
CREATED:20260419T053052Z
LAST-MODIFIED:20260419T061703Z
UID:11896-1792945800-1792945800@mainstreetreads.com
SUMMARY:A THREE-COURT Celebration: Three events\, Three Courts\, One Unforgettable Release!
DESCRIPTION:We’re celebrating A Court of Thorns and Roses series Book Six by Sarah J. Maas with Three events. Three Courts. One unforgettable release. Here’s the lineup! \n\n\n\n\n\n\n\n1. CARDS AGAINST PRYTHIAN\n\n\n\nSunday\, October 25 | 4:30 PM\n\n\n\n$19.95 | LIMITED TO 20 SPOTS – TICKETS HERE \n\n\n\nStart the celebration with a little chaos… \n\n\n\n\n\n\n\nThis intimate\, laugh-filled pre-party is your chance to gather with fellow fans before the big night. Expect irreverent fun\, themed gameplay\, and just enough mischief to set the tone. \n\n\n\nYour Ticket Includes: \n\n\n\n\nPrythian-inspired card gameplay\n\n\n\nLight bites + drinks available\n\n\n\nPrizes and surprises\n\n\n\nA cozy\, small-group fan experience\n\n\n\nEarly opportunity to grab ACOTAR merchandise before the crowds!\n\n\n\n\n✨ Only 20 seats—this one will go fast. \n\n\n\n\n\n\n\n2. NIGHT COURT MIDNIGHT RELEASE\n\n\n\nMonday\, October 26 | 9:00 PM – 12:00 AM\n\n\n\n$39.95 (INCLUDES THE BOOK and MORE) \n\n\n\n\n\n\n\nThe stars align at midnight…Join us in the Night Court as we count down to the official midnight release. When the clock strikes twelve\, you’ll walk away with your copy in hand—along with a night full of magic. \n\n\n\nYOUR TICKET Includes: \n\n\n\n\nFirst Edition copy of Book Six at midnight\n\n\n\n“Starfall” signature drink (mocktail or spirited)\n\n\n\nExclusive themed gifts\n\n\n\nGames\, giveaways\, and immersive fun\n\n\n\n10% off all ACOTAR merchandise\n\n\n\n\nCome dressed for the Night Court... \n\n\n\n\n\n\n\n3. DAWN COURT RELEASE\n\n\n\nTuesday\, October 27 | 7:00 AM (Sunrise 7:34 AM)\n\n\n\n$32 BOOK PREORDER = YOUR ENTRY \n\n\n\n\n\n\n\nA quieter kind of magic…If midnight isn’t your style\, join us at sunrise for a relaxed\, cozy release moment. Grab your first edition on your way to work/school\, or any time on release day. \n\n\n\nImportant:You must preorder your book through Main Street Reads to attend and guarantee release day pickup—your purchase is your ticket to the magic. Pre-order cutoff is August 27th. \n\n\n\nYour pre-order includes: \n\n\n\n\nYour preordered copy ready at our dawn opening. (Doors open 7 am)\n\n\n\nComplimentary “Tamlin’s Tears” (mimosa or mocktail) served ’til noon.\n\n\n\nA calm space to start reading\n\n\n\n\n\n\n\n\nCHOOSE YOUR COURT\n\n\n\n\nCards Against Prythian → small\, social\, and irreverent fun\n\n\n\nNight Court → high-energy\, immersive\, midnight magic release party\n\n\n\nDawn Court → calm\, cozy\, first-light new release reading \n\n\n\n\nWhichever Courts you choose… the magic of Maas awaits.
URL:https://mainstreetreads.com/event/three_court_release/
LOCATION:Main Street Reads\, 115 S. Main St.\, Summerville\, SC\, 29483\, United States
CATEGORIES:Celebration
ATTACH;FMTTYPE=image/png:https://mainstreetreads.com/wp-content/uploads/2026/04/ACOTAR-Events.png
END:VEVENT
END:VCALENDAR