BEGIN:VCALENDAR
VERSION:2.0
PRODID:-//Main Street Reads - ECPv6.15.20//NONSGML v1.0//EN
CALSCALE:GREGORIAN
METHOD:PUBLISH
X-ORIGINAL-URL:https://mainstreetreads.com
X-WR-CALDESC:Events for Main Street Reads
REFRESH-INTERVAL;VALUE=DURATION:PT1H
X-Robots-Tag:noindex
X-PUBLISHED-TTL:PT1H
BEGIN:VTIMEZONE
TZID:America/New_York
BEGIN:DAYLIGHT
TZOFFSETFROM:-0500
TZOFFSETTO:-0400
TZNAME:EDT
DTSTART:20200308T070000
END:DAYLIGHT
BEGIN:STANDARD
TZOFFSETFROM:-0400
TZOFFSETTO:-0500
TZNAME:EST
DTSTART:20201101T060000
END:STANDARD
BEGIN:DAYLIGHT
TZOFFSETFROM:-0500
TZOFFSETTO:-0400
TZNAME:EDT
DTSTART:20210314T070000
END:DAYLIGHT
BEGIN:STANDARD
TZOFFSETFROM:-0400
TZOFFSETTO:-0500
TZNAME:EST
DTSTART:20211107T060000
END:STANDARD
BEGIN:DAYLIGHT
TZOFFSETFROM:-0500
TZOFFSETTO:-0400
TZNAME:EDT
DTSTART:20220313T070000
END:DAYLIGHT
BEGIN:STANDARD
TZOFFSETFROM:-0400
TZOFFSETTO:-0500
TZNAME:EST
DTSTART:20221106T060000
END:STANDARD
END:VTIMEZONE
BEGIN:VEVENT
DTSTART;TZID=America/New_York:20210506T190000
DTEND;TZID=America/New_York:20210506T200000
DTSTAMP:20260419T134304
CREATED:20210425T033004Z
LAST-MODIFIED:20210425T033022Z
UID:4677-1620327600-1620331200@mainstreetreads.com
SUMMARY:Reader Meet Writer: A Memoir of Food and Love in Thirteen Courses (Virtual Event)
DESCRIPTION:“Sobremesa reads like a cross between magical realism and the food section of the New York Times. Delicioso!” —Beth Ostrosky-Stern\, New York Times Bestselling Author \nIf food is the universal language of love\, sobremesa is the romance. Gather around the table with C-level career woman turned foodpreneur\, Josephine Caminos Oría\, as she cooks up a magical tale\, told morsel by morsel\, of some of her most memorable tableside chats—sobremesaa—that provided the first-generation Argentine-American the courage to leave the safe life she knew and start over from scratch. \nIn her coming-of-age adventure\, Josephine travels to her family’s homeland of Argentina in search of belonging—to family\, to country\, to a love\, and ultimately\, to oneself. Steeped in the lure of Latin culture\, she pieces together her mom and abuela’s pasts\, along with the nourishing dishes—delectably and spiritually—that formed their kitchen arsenal. But Josephine’s travels from las pampas to the prairie aren’t easy or conventional. She grapples with mystical encounters with the spirit world that lead her to discover a part of herself that\, like sobremesa\, had been lost in translation. Just as she’s ready to give up on love all together\, Josephine’s own heart surprises her by surrendering to a forbidden\, transcontinental tryst with the Argentine man of her dreams. To stay together\, she must make a difficult choice: return to the safe life she knows in the States\, or follow her heart and craft a completely different kind of future for herself—one she never saw coming. \nThis otherworldly\, multigenerational story of a daughter’s love and familial culinary legacy serves up\, in 13 courses\, the timeless traditions that help Josephine navigate transformational love and loss. It’s a reminder that that home really is anywhere the heart is. Sobremesa invites you to linger at the table\, reveal your own hidden truths and savor the healing embrace of time-honored food and the wisdom it espouses. \nCONTACT US AT mainstreetreads@gmail.com for your LINK TO ATTEND!\n\nJosephine Caminos Oría is an Argentine-American cookbook author\, entrepreneur and mom. It was in her early 40s\, with five young children in tow\, that Josephine took a chance on herself\, leaving a C-level career to make dulce de leche. Today\, Josephine\, along with her Argentine husband\, Gastón\, is the founder of La Dorita Cooks\, an all-natural line of dulce de leche products and Pittsburgh’s first resource-based kitchen incubator for start-up and early stage food makers (see www.ladorita.net for more information). In addition\, Josephine is the author of Dulce de Leche: Recipes\, Stories\, and Sweet Traditions (Burgess Lea Press\, February 2017).
URL:https://mainstreetreads.com/event/reader-meet-writer-a-memoir-of-food-and-love-in-thirteen-courses-virtual-event/
LOCATION:Main Street Reads\, 115 S. Main St.\, Summerville\, SC\, 29483\, United States
CATEGORIES:Book Discussion,Virtual Author Event
ATTACH;FMTTYPE=image/png:https://mainstreetreads.com/wp-content/uploads/2021/04/READER-MEET-WRITER-MAY.png
END:VEVENT
BEGIN:VEVENT
DTSTART;TZID=America/New_York:20210513T190000
DTEND;TZID=America/New_York:20210513T200000
DTSTAMP:20260419T134304
CREATED:20210425T030938Z
LAST-MODIFIED:20210425T030938Z
UID:4671-1620932400-1620936000@mainstreetreads.com
SUMMARY:Virtual Launch Party: Deborah Clark Vance with Sylvie Denied
DESCRIPTION:Join us to celebrate the launch of Sylvie Denied by Deborah Clark Vance! Deborah will join us from her Ohio home via Zoom to chat about what brought her to write this fascinating book. Participants will have the opportunity to ask questions of the author. The Zoom link and password are below! \nAs she enters adulthood in the turbulent 1970s\, Sylvie thinks the way to change a violent world is to become a peaceful person. Yet she slowly sees how a childhood trauma thwarts her peaceful intentions and leads her to men with a dark side – including Enzo\, the man she marries. Even as his behavior becomes increasingly volatile\, she believes she can make things better with love and understanding. But finally living in terror. Sylvie must find a way to escape with her daughter and a way to claim her place in the world. \nAt 7:00 pm on Thursday\, May 13th\, Join Zoom Meeting at\nhttps://us02web.zoom.us/j/87404532011?pwd=VzZwcTJ1WG1iMTZ4anVPSE1PR0dqZz09 \nMeeting ID: 874 0453 2011\nPasscode: 156750
URL:https://mainstreetreads.com/event/virtual-launch-party-deborah-clark-vance-with-sylvie-denied/
LOCATION:Main Street Reads\, 115 S. Main St.\, Summerville\, SC\, 29483\, United States
CATEGORIES:Virtual Author Event
ATTACH;FMTTYPE=image/png:https://mainstreetreads.com/wp-content/uploads/2021/04/Sylvie-Denied.png
ORGANIZER;CN="Main Street Reads":MAILTO:shari@writerswin.com
END:VEVENT
BEGIN:VEVENT
DTSTART;TZID=America/New_York:20210526T190000
DTEND;TZID=America/New_York:20210526T200000
DTSTAMP:20260419T134304
CREATED:20210502T142244Z
LAST-MODIFIED:20210519T210743Z
UID:4703-1622055600-1622059200@mainstreetreads.com
SUMMARY:Scholastic Parents Night: The Power of Summer Reading Sale!
DESCRIPTION:School’s out!\nAt Scholastic Parents Night: The Power of Summer Reading\, a virtual panel of Scholastic authors\, education experts\, and booksellers will give tips and book recommendations that will keep kids excited to read all summer long! \nBe sure to tune in for: \n\nA book recommendation speed-round with an indie bookseller – Ask for recommendations based on your child’s likes and needs!\nInterviews with beloved authors Varian Johnson (Twins and The Parker Inheritance) and Kelly Yang (The Front Desk series)\nTips and tricks to keep your kids reading all summer – and loving it!\nSwag! Attendees who visit the store after the event will receive a goodie bag (on a first come\, first serve basis)\, and all attendees will receive digital activities\, brochures and more!\n\nWe will joined by:\n\nModerator John Schu: Host of Book Joy Live\, author of the popular blog Watch. Read. Connect. and Ambassador of School Libraries for Scholastic Book Fairs.\nVarian Johnson: Award-winning author of several books for children and young adults\, including The Parker Inheritance and Twins\, illustrated by Shannon Wright.\nLauren Savage: Co-founder and owner of the Reading Bug Bookstore and Reading Bug Box in San Carlos\, California and narrator of the Reading Bug Adventures story and music podcast.\nLizette Serrano: VP of Educational Marketing at Scholastic\, Co-founder of the Power of Story initiative and a 2021 Summer Reading Ambassador.\nKelly Yang: Author of the award-winning Front Desk series and founder of The Kelly Yang project.\nYou can find shorter or longer panelist bios\, here\, if you’d prefer to use those instead\n\nCLICK HERE for a list of books you can purchase before or after the event. Print it\, check what you like and drop it by the store any time before May 27th and get 10% off your entire purchase! (Books not yet in stock will arrive by the following week). \nIf you prefer – you can shop from home from the list we’ve created at our BOOKSHOP page HERE! \nWe hope you’ll join us at https://www.facebook.com/events/1887833914708713 \n \n 
URL:https://mainstreetreads.com/event/scholastic-parents-night-the-power-of-summer-reading/
LOCATION:Main Street Reads\, 115 S. Main St.\, Summerville\, SC\, 29483\, United States
CATEGORIES:Book Discussion,Celebration,Story Time,Virtual Author Event
ATTACH;FMTTYPE=image/png:https://mainstreetreads.com/wp-content/uploads/2021/05/Parents-Night3_Twitter-and-facebook.png
END:VEVENT
END:VCALENDAR