BEGIN:VCALENDAR
VERSION:2.0
PRODID:-//Main Street Reads - ECPv6.15.20//NONSGML v1.0//EN
CALSCALE:GREGORIAN
METHOD:PUBLISH
X-WR-CALNAME:Main Street Reads
X-ORIGINAL-URL:https://mainstreetreads.com
X-WR-CALDESC:Events for Main Street Reads
REFRESH-INTERVAL;VALUE=DURATION:PT1H
X-Robots-Tag:noindex
X-PUBLISHED-TTL:PT1H
BEGIN:VTIMEZONE
TZID:America/New_York
BEGIN:DAYLIGHT
TZOFFSETFROM:-0500
TZOFFSETTO:-0400
TZNAME:EDT
DTSTART:20250309T070000
END:DAYLIGHT
BEGIN:STANDARD
TZOFFSETFROM:-0400
TZOFFSETTO:-0500
TZNAME:EST
DTSTART:20251102T060000
END:STANDARD
BEGIN:DAYLIGHT
TZOFFSETFROM:-0500
TZOFFSETTO:-0400
TZNAME:EDT
DTSTART:20260308T070000
END:DAYLIGHT
BEGIN:STANDARD
TZOFFSETFROM:-0400
TZOFFSETTO:-0500
TZNAME:EST
DTSTART:20261101T060000
END:STANDARD
BEGIN:DAYLIGHT
TZOFFSETFROM:-0500
TZOFFSETTO:-0400
TZNAME:EDT
DTSTART:20270314T070000
END:DAYLIGHT
BEGIN:STANDARD
TZOFFSETFROM:-0400
TZOFFSETTO:-0500
TZNAME:EST
DTSTART:20271107T060000
END:STANDARD
END:VTIMEZONE
BEGIN:VEVENT
DTSTART;TZID=America/New_York:20260425T090000
DTEND;TZID=America/New_York:20260425T190000
DTSTAMP:20260424T002212
CREATED:20250406T035732Z
LAST-MODIFIED:20260423T135833Z
UID:10171-1777107600-1777143600@mainstreetreads.com
SUMMARY:Let's Celebrate! Indie Bookstore Day 2026!
DESCRIPTION:The highlight of indie bookstores from coast to coast each year – a day celebrating indie stores and our incredible readers! As always\, we’ll have exclusive products on the big day\, free gifts\, eats\, drinks and more\, including: \n\n\n\n\nBOOK SIGNING and RECEPTION with Robert Gwaltney and his new hit\, Sing Down the Moon\n\n\n\n$5 in BOOK BUCKS for anyone who comes in dressed as their favorite literary character!\n\n\n\nFACE PAINTING by Annika (beginning at 10 am – free with any purchase)\n\n\n\nA BIG REVEAL of some upcoming exciting events (with early access and early bird pricing to tickets)\n\n\n\nEXCLUSIVE PRODUCTS – And we’re the lowcountry bookstore that’s got ’em!\n\n\n\n\n\nIndie Exclusive\n\n\n\nSigned Indie Exclusive\n\n\n\nIndie Exclusive\n\n\n\nSigned Indie Exclusive\n\n\n\nMini-Tote\n\n\n\n\n\n\n\nIncludes exclusive patch!\n\n\n\nFree w/purchase\n\n\n\nFree w/purchase\n\n\n\nLarge Tote\n\n\n\n\nYou won’t want to miss a minute; we’ll see you on Main Street! \n\n\n\nIndependent Bookstore Day (Indie Bookstore Day) was established in 2013 to promote\, celebrate\, and highlight the value of the Independent bookstore community. The day has been observed on the last Saturday of April every year since 2013. This year there are over 1\,600 stores participating across the country!
URL:https://mainstreetreads.com/event/lets-celebrate-indie-bookstore-day-2026/
LOCATION:Main Street Reads\, 115 S. Main St.\, Summerville\, SC\, 29483\, United States
CATEGORIES:Celebration,Special Sale
ATTACH;FMTTYPE=image/png:https://mainstreetreads.com/wp-content/uploads/2025/04/IBD2026-LogoGraphic.png
END:VEVENT
BEGIN:VEVENT
DTSTART;TZID=America/New_York:20260425T180000
DTEND;TZID=America/New_York:20260425T193000
DTSTAMP:20260424T002212
CREATED:20260405T054206Z
LAST-MODIFIED:20260405T130821Z
UID:11861-1777140000-1777145400@mainstreetreads.com
SUMMARY:Sing Down the Moon on Indie Bookstore Day!
DESCRIPTION:Celebrate Indie Bookstore Day with a hauntingly unforgettable evening at Main Street Reads! \n\n\n\n\n\n\n\nWe’re thrilled to welcome Southern Gothic author Robert Gwaltney for the release of Sing Down the Moon—a richly atmospheric story filled with mystery\, legacy\, and the kind of storytelling that lingers long after the final page. \n\n\n\nThis “Your Book Is Your Ticket” event means your ticket purchase includes a signed copy of the book and access to the experience! \n\n\n\n📖 Two ways to join us (same price!):• Stop in before 6 PM to meet Robert and have your book signedOR• Join our private evening event from 6:00–7:30 PM\, featuring wine\, appetizers\, and an intimate conversation with the author \n\n\n\n✨ Whether you’re popping in or settling in\, you’ll leave with a signed copy and a story you won’t soon forget.  \n\n\n\n🎟️ $21.95 includes your signed book\, conversation\, and wine & treats👉 Space is limited—reserve your spot now RIGHT HERE! \n\n\n\nABOUT THE BOOK\n\n\n\nWhat if your destiny was written in something you’re determined to escape? \n\n\n\n\n\n\n\nSixteen-year-old Leontyne Skye has always dreamed of leaving Good Hope—a hauntingly beautiful barrier island off the Georgia coast where nothing\, and no one\, ever truly leaves…Because in Good Hope\, magic comes at a cost. \n\n\n\nLeontyne’s family has long been bound to Damascus\, an ancient fig tree that sings to restless spirits—haints—across the river. From its fruit comes Redemption\, a powerful and dangerously addictive elixir that sustains the island…and slowly destroys the women of the Skye line. \n\n\n\nHer mother\, Eulalee\, is already unraveling—literally—fading into fragments of hair\, teeth\, and memory. And Leontyne isn’t far behind. \n\n\n\nStill recovering from a devastating accident during the mysterious Tribulation Day—an event that stole her hand and fractured her memories—Leontyne can no longer trust her own past. What she knows comes only through the shifting\, uncertain stories of the Longwood twins…her closest friends\, and perhaps her greatest manipulators. \n\n\n\nNow\, with her mother gone\, the weight of legacy falls squarely on Leontyne’s shoulders. \n\n\n\nThe island needs Redemption. The Longwoods expect her to comply. But Leontyne is beginning to wonder: What if the truth of Good Hope is darker than she’s ever been told? \n\n\n\nAnd what if escaping it means destroying everything—and everyone—she’s ever known? \n\n\n\n\n\n\n\nRobert Gwaltney is the author of Sing Down the Moon (Mercer University Press\, 2026) and The Cicada Tree (Moonshine Cove Publishing\, 2022)\, works of Southern literary fiction that explore inheritance\, identity\, and the fragile boundary between the living and the dead. Rooted in the landscapes and histories of the American South\, his writing blends the gothic tradition with elements of magical realism to illuminate the forces that shape who we become. \n\n\n\nRaised in Cairo\, Georgia\, alongside three younger brothers\, Gwaltney is a lifelong resident of the South — a circumstance that has left an indelible mark on his voice as a writer. Sense of place remains central to his work\, where memory\, myth\, and longing intertwine. \n\n\n\nBy day\, he serves as Vice President of Easterseals North Georgia\, championing early childhood literacy and strengthening families at critical stages of development. In all the hours between\, he writes. Robert lives in Atlanta\, Georgia\, with his partner.
URL:https://mainstreetreads.com/event/sing-down-the-moon-on-indie-bookstore-day/
CATEGORIES:Book Discussion,Book Signing,Celebration
ATTACH;FMTTYPE=image/jpeg:https://mainstreetreads.com/wp-content/uploads/2026/04/Robert-Gwaltney-Sing-Down-the-Moon.jpg
END:VEVENT
BEGIN:VEVENT
DTSTART;TZID=America/New_York:20260426T163000
DTEND;TZID=America/New_York:20260426T183000
DTSTAMP:20260424T002212
CREATED:20260401T035647Z
LAST-MODIFIED:20260411T145339Z
UID:11845-1777221000-1777228200@mainstreetreads.com
SUMMARY:Plot Twist Project: Come Junk Journal with Us!
DESCRIPTION:Get creative\, get messy\, and give new life to old things at our next Plot Twist Project! Join us for a relaxed\, inspiration-filled evening of junk journaling—a creative practice where scraps\, textures\, and found materials come together to tell your story. \n\n\n\nLed by two of our Fab Fantasy book club members\, Lisa & Tammy\, you’ll get a peek at their junk journals for inspiration before diving into your own creation. (See examples below!) \n\n\n\nPick a theme and make it yours—whether it’s: \n\n\n\n\nGardening\n\n\n\nTravel\n\n\n\nFavorite books\n\n\n\nFamily moments\n\n\n\nMemories\, moods\, “inspired by” or “just because”\n\n\n\n\nThe sky is truly the limit. \n\n\n\nAnd of course… 🍷 wine & treats included—because creativity pairs well with both. \n\n\n\n💲 Cost: $10.75 and Limited to 15 participants (advance registration required HERE! ✨ Come create something uniquely yours—with a little help from fellow book lovers. \n\n\n\nWe’ll have journals to choose from\, or bring your own!\n\n\n\nThings We’ll Have On Hand\n\n\n\n\nJournals for purchase (1/2 price at $10 ea. or bring your own!)\n\n\n\nStickers for purchase (1/2 price from us or bring your own!)\n\n\n\nCrafting\, acid-free glue sticks and double-sided tape\n\n\n\nScissors and Paper Cutters\n\n\n\nColored pencils\, markers\, and construction paper\n\n\n\nMagazines (we’ll have several but feel free to bring yours)\n\n\n\nA treasure trove of “junk”—magazines\, pressed flowers\, ribbons\, letter stickers & more\n\n\n\n\nOptional: Things to Bring!\n\n\n\n\nJournal of your own (or grab one from us)\n\n\n\nOld magazines\, newspapers\, pamphlets\, greeting cards (junk journaling boils down to repurposing existing items into a new creative thing!)\n\n\n\nAny personal photos/items you want to include\n\n\n\nRibbons\, lace\, broken jewelry pieces\, any other items you may have lying around that might be creatively repurposed\n\n\n\n\nExamples of junk journal pages
URL:https://mainstreetreads.com/event/plot-twist-project-come-junk-journal-with-us/
LOCATION:Main Street Reads\, 115 S. Main St.\, Summerville\, SC\, 29483\, United States
CATEGORIES:Celebration,Workshop
ATTACH;FMTTYPE=image/png:https://mainstreetreads.com/wp-content/uploads/2026/03/Plot-Twist-Project.png
END:VEVENT
BEGIN:VEVENT
DTSTART;TZID=America/New_York:20260427T183000
DTEND;TZID=America/New_York:20260427T203000
DTSTAMP:20260424T002212
CREATED:20260330T163614Z
LAST-MODIFIED:20260424T033008Z
UID:11837-1777314600-1777321800@mainstreetreads.com
SUMMARY:Main Street Writes Mondays
DESCRIPTION:For the inner writer in all of us\, our regular Monday evening writers group – We’re virtual every Monday. Please email for your Zoom credentials! \n\n\n\nIf you’d prefer to send your pages in advance (no more than 2 single-spaced or 4 double spaced\, you can email them and we’ll share w/the group. On entering the meeting\, you’ll be given a link to a Google doc of words so you can follow along. \n\n\n\nWant to see samples from this incredible group? Visit Main Street Writes HERE
URL:https://mainstreetreads.com/event/main-street-writes/
ATTACH;FMTTYPE=image/jpeg:https://mainstreetreads.com/wp-content/uploads/2023/01/Main-Street-Writes.jpg
END:VEVENT
BEGIN:VEVENT
DTSTART;TZID=America/New_York:20260428T183000
DTEND;TZID=America/New_York:20260428T200000
DTSTAMP:20260424T002212
CREATED:20260322T044610Z
LAST-MODIFIED:20260322T044723Z
UID:11786-1777401000-1777406400@mainstreetreads.com
SUMMARY:April Books & Banter Fiction Book Club: Lake Effect by Cynthia D’Aprix Sweeney
DESCRIPTION:Books & Banter is our general fiction book club\, focusing on great new reads that matter! As always\, our book clubs are free and open to all\, and the book club pick is 10% off the regular price. You bring the conversation\, we’ll provide the treats! \n\n\n\nThis month’s pick is Lake Effect by Cynthia D’Aprix Sweeney($30.00) Book club price: $27.00 Hardcover\, 288 pp \n\n\n\n\n\n\n\nFrom the NYT bestselling author of The Nest and Good Company comes this newest novel about the ripples one decision can send through generations. In 1977 Rochester\, restlessness hangs over Cambridge Road as Nina Larkin questions the lack of intimacy in her marriage.  \n\n\n\nWhen a friend hands her The Joy of Sex\, Nina is awakened to desires she can no longer ignore. A passionate affair with a prominent neighbor offers the freedom she’s craved—but shatters the stability of both families and devastates her teenage daughter\, Clara. Decades later\, Clara\, now a successful food stylist in New York City\, remains haunted by the scandal that reshaped her youth.  \n\n\n\nReturning home for a family wedding\, she faces old wounds and new choices in this wise\, insightful novel about desire\, forgiveness\, and the complicated bonds between mothers and daughters.
URL:https://mainstreetreads.com/event/april-books-banter-fiction-book-club-lake-effect-by-cynthia-daprix-sweeney/
LOCATION:Main Street Reads\, 115 S. Main St.\, Summerville\, SC\, 29483\, United States
CATEGORIES:Book Club,Book Discussion
ATTACH;FMTTYPE=image/jpeg:https://mainstreetreads.com/wp-content/uploads/2026/03/April-2026-Books-and-Banter.jpg
END:VEVENT
BEGIN:VEVENT
DTSTART;TZID=America/New_York:20260429T093000
DTEND;TZID=America/New_York:20260429T100000
DTSTAMP:20260424T002212
CREATED:20240822T161748Z
LAST-MODIFIED:20260424T033119Z
UID:8814-1777455000-1777456800@mainstreetreads.com
SUMMARY:Wednesday Stories on the Square
DESCRIPTION:Join us WEDNESDAY mornings at 9:30 a.m. for “Stories on the Square” – our storytime adventure  – kids of all ages welcome! Treats served and student discounts to ALL attendees! \n\n\n\nWith the help of Ms. Leslie\, our wonderful visiting storyteller\, we have loads of very special “These Are the People in Your Neighborhood” guests\, including the fire chief\, the police chief\, Summerville’s mayor and more! \n\n\n\nUPCOMING SPECIAL GUESTS! \n\n\n\n\n\n\n\n\n\n\n\n\n\n\n\n\n\nStorytime at Main Street Reads has become one of our featured events. We have lots of chairs for younger listeners and plenty of juice boxes and fruit snacks to munch while they listen. \n\n\n\nStorytime takes place INSIDE the store – we just do ask that strollers park outside! No bugs\, no rain\, just books and fun!
URL:https://mainstreetreads.com/event/wednesday-stories-on-the-square-12/
LOCATION:Main Street Reads\, 115 S. Main St.\, Summerville\, SC\, 29483\, United States
CATEGORIES:Book Club,Book Discussion,Story Time
ATTACH;FMTTYPE=image/jpeg:https://mainstreetreads.com/wp-content/uploads/2024/08/Stories-on-the-Square.jpg
END:VEVENT
BEGIN:VEVENT
DTSTART;TZID=America/New_York:20260505T183000
DTEND;TZID=America/New_York:20260505T203000
DTSTAMP:20260424T002212
CREATED:20240901T040833Z
LAST-MODIFIED:20260424T032511Z
UID:8858-1778005800-1778013000@mainstreetreads.com
SUMMARY:MAY Silent Nights: Quiet Reading Club
DESCRIPTION:Silent Reading group is free and open to all\, but only if you register! \n\n\n\nPlease only sign up HERE if you definitely will attend. \n\n\n\nWe’ll have several comfy chairs and air-chairs\, and readers are invited to bring their own comfort items as well (pillow\, wrap\, snacks\, etc.) Wine will be provided for the p.m. meeting. Other food/beverages are on your own.  \n\n\n\nFrom 6:30 – 7:00 pm – you can shop/meet and greet and find your quiet reading spot.From 7:00 – 8:00 pm – no talking\, just reading!From 8:00 – 8:30 pm – you can shop\, share what you’re reading\, or continue reading quietly ’til 8:30. \n\n\n\nWe’ll see you on Main Street!
URL:https://mainstreetreads.com/event/silent-nights-quiet-reading-club/
LOCATION:Main Street Reads\, 115 S. Main St.\, Summerville\, SC\, 29483\, United States
CATEGORIES:Book Club
ATTACH;FMTTYPE=image/png:https://mainstreetreads.com/wp-content/uploads/2024/09/SILENT-NIGHTS-1.png
END:VEVENT
BEGIN:VEVENT
DTSTART;TZID=America/New_York:20260507T183000
DTEND;TZID=America/New_York:20260507T200000
DTSTAMP:20260424T002212
CREATED:20260423T190726Z
LAST-MODIFIED:20260423T190749Z
UID:11936-1778178600-1778184000@mainstreetreads.com
SUMMARY:May Fab Fantasy Book Club: This Kingdom Will Not Kill Me by Ilona Andrews
DESCRIPTION:Come join the discussion – wine and apps are free\, and –as always– our clubs are free and open to all\, PLUS the book club picks are offered at the 10% off book club discount! \n\n\n\nThis month\, we’ll be chatting about This Kingdom Will Not Kill Me by Ilona Andrews ($29.99 Book club price: $26.99 Hardcover\, 480 pp) \n\n\n\n\n\n\n\nWhen Maggie wakes up cold\, filthy\, and naked in a gutter\, she quickly realizes she’s not dreaming—she’s somehow landed inside Kair Toren\, the brutal\, magic-soaked city from her favorite (and famously unfinished) dark fantasy series. Armed with nothing but her encyclopedic knowledge of the books\, Maggie must navigate rival warlords\, treacherous politics\, deadly magic\, and a cast of characters whose tragic fates she already knows. \n\n\n\nThough she discovers she can’t be killed\, the same isn’t true for the living\, breathing companions she grows to love—from a former lady’s maid and a charming soldier to assassins and unruly magical creatures. As princes and villains vie for her loyalty\, \n\n\n\nMaggie is drawn into a looming war she’s desperate to rewrite. Perfect for fans of Sarah J. Maas\, and portal fantasy epics.
URL:https://mainstreetreads.com/event/may-fab-fantasy-book-club-this-kingdom-will-not-kill-me-by-ilona-andrews/
LOCATION:Main Street Reads\, 115 S. Main St.\, Summerville\, SC\, 29483\, United States
CATEGORIES:Book Club,Book Discussion
ATTACH;FMTTYPE=image/png:https://mainstreetreads.com/wp-content/uploads/2026/04/may-7-2026-fantasy.png
END:VEVENT
BEGIN:VEVENT
DTSTART;TZID=America/New_York:20260512T183000
DTEND;TZID=America/New_York:20260512T200000
DTSTAMP:20260424T002212
CREATED:20260424T034418Z
LAST-MODIFIED:20260424T034435Z
UID:11938-1778610600-1778616000@mainstreetreads.com
SUMMARY:May Thrill in the ‘Ville Thriller Book Club: All the Little Houses by May Cobb
DESCRIPTION:Come join the Thrill in the ‘Ville thriller book club discussion – wine and apps are free\, and as always\, our clubs are free and open to all\, PLUS the book club picks are offered at the 10% off book club discount. \n\n\n\nThis month we’re chatting about: All the Little Houses by May Cobb($27.99 Book club price: $25.19 Hardcover\, 480 pp) \n\n\n\n\n\n\n\nFrom the author of The Hunting Wives comes this wickedly addictive thriller about mean girls\, mean moms\, and the explosive truths hiding inside all the little houses..In the mid-1980s in Longview\, Texas\, beauty and power rule—and no one wields them like Nellie Anderson and her ruthlessly poised mother\, Charleigh.  \n\n\n\nOnce an outcast who clawed her way into the town’s elite\, Charleigh has built a glittering social empire she refuses to lose. But when a wholesome\, prairie-sweet family moves in—complete with a picture-perfect daughter and charm that turns heads—old insecurities flare\, rivalries ignite\, and the fragile hierarchy of Longview begins to crack.  \n\n\n\nAs alliances shift and secrets simmer behind manicured doors\, the Anderson dynasty finds itself in a battle for control that could leave reputations—and lives—ruined.
URL:https://mainstreetreads.com/event/may-thrill-in-the-ville-thriller-book-club-all-the-little-houses-by-may-cobb/
LOCATION:Main Street Reads\, 115 S. Main St.\, Summerville\, SC\, 29483\, United States
CATEGORIES:Book Club,Book Discussion
ATTACH;FMTTYPE=image/png:https://mainstreetreads.com/wp-content/uploads/2026/04/May-12-2026-Thriller.png
END:VEVENT
BEGIN:VEVENT
DTSTART;TZID=America/New_York:20260518T173000
DTEND;TZID=America/New_York:20260518T183000
DTSTAMP:20260424T002212
CREATED:20260424T040027Z
LAST-MODIFIED:20260424T040046Z
UID:11944-1779125400-1779129000@mainstreetreads.com
SUMMARY:May Adventures in Reading Kids Club: Mystery on Macaw Mountain by María José Fitzgerald
DESCRIPTION:Our Adventures in Reading Kids Club is free and open to all AND the book is 10% off book club pricing. Come on out and join your fellow readers each month for a free pizza party and chat about the selected book. \n\n\n\n\n\n\n\nThis month we’re chatting about Mystery on Macaw Mountain by María José Fitzgerald ($17.99 Book club price: $16.19 Hardcover\, 272 pp)When eight endangered scarlet macaws vanish from a new bird sanctuary at the ancient Mayan ruins of Copán\, cousins Nico\, Celeste\, Mateo\, and Isa suddenly find themselves at the heart of a baffling crime.  \n\n\n\nThe four don’t have much in common—except their excitement to witness the rare birds’ release and their determination to solve the case. With poachers\, shady developers\, and even Mama’s irritating novio on the suspect list\, the cousins follow clues from lively downtown Copán to the misty heights of Macaw Mountain.  \n\n\n\nEach step uncovers new secrets—and reveals how much stronger they are when they work together. Fast-paced\, atmospheric\, and full of cultural richness\, this engaging mystery invites readers to explore Honduras while cheering on four unlikely detectives in a high-stakes race to save the macaws.
URL:https://mainstreetreads.com/event/may-adventures-in-reading-kids-club-mystery-on-macaw-mountain-by-maria-jose-fitzgerald/
CATEGORIES:Book Club,Book Discussion
ATTACH;FMTTYPE=image/png:https://mainstreetreads.com/wp-content/uploads/2026/04/May-18-2026-Kids.png
END:VEVENT
BEGIN:VEVENT
DTSTART;TZID=America/New_York:20260519T080000
DTEND;TZID=America/New_York:20260519T100000
DTSTAMP:20260424T002212
CREATED:20240901T042906Z
LAST-MODIFIED:20260424T032827Z
UID:8866-1779177600-1779184800@mainstreetreads.com
SUMMARY:Peaceful Mornings: Quiet Reading Club
DESCRIPTION:Please only sign up HERE if you definitely will attend. If you can’t make it\, PLEASE let us know so another can join in. \n\n\n\nWe’ll have several comfy chairs and air-chairs\, and readers are invited to bring their own comfort items as well (pillow\, wrap\, snacks\, etc.) Coffee will be provided for the a.m. meeting. Other food/beverages are on your own (we suggest Cuppa Manna across the square for a morning snack). \n\n\n\nFrom 8:00 – 8:30 am – you can shop/meet and greet and find your quiet reading spot.From 8:30 – 9:30 am – Front door locked and no talking\, just reading!From 9:30 – 10:00 am – you can shop\, share what you’re reading\, or continue reading quietly ’til we open at 10 a.m. \n\n\n\nWe’ll see you on Main Street!
URL:https://mainstreetreads.com/event/peaceful-mornings-quiet-reading-club/
LOCATION:Main Street Reads\, 115 S. Main St.\, Summerville\, SC\, 29483\, United States
CATEGORIES:Book Club
ATTACH;FMTTYPE=image/jpeg:https://mainstreetreads.com/wp-content/uploads/2024/09/New-Peaceful-Mornings.jpg
END:VEVENT
BEGIN:VEVENT
DTSTART;TZID=America/New_York:20260519T183000
DTEND;TZID=America/New_York:20260519T200000
DTSTAMP:20260424T002212
CREATED:20260424T041328Z
LAST-MODIFIED:20260424T041345Z
UID:11948-1779215400-1779220800@mainstreetreads.com
SUMMARY:May Kiss & Tell Romance Book Club: West of Wicked by Nikki St. Crowe
DESCRIPTION:Our book clubs are free and open to all – we supply the treats\, you bring the scintillating conversation! As always\, all book club selections are 10% off book club pricing. Come join our romance club\, “Kiss & Tell!” \n\n\n\nThis month\, we’re chatting about West of Wicked by Nikki St. Crowe($32.99 Book club price: $29.69 Hardcover\, 320 pp) \n\n\n\n\n\n\n\nWhen a violent cyclone rips Dorothy and her farmhouse from the Kansas plains\, she awakens in the eerie\, cursed land of Oz—far from home and armed only with a warning to avoid the monsters\, mercenaries\, and witches that stalk the yellow brick road.  \n\n\n\nDetermined to reach the Wizard and return to Kansas\, Dorothy sets out alone…until she discovers a brutally beaten stranger tied to a pole like a living scarecrow. With no memories but an irresistible charm\, Rook becomes her unexpected—and dangerously attractive—companion. Yet as they travel deeper into Oz and encounter the infamous Tinman and other twisted legends\, Dorothy realizes nothing in this realm is what it seems.  \n\n\n\nA seductive fantasy romance where every secret could change the story. This deluxe edition features gorgeous stenciled edges\, a map\, endpapers\, and case stamp.
URL:https://mainstreetreads.com/event/may-kiss-tell-romance-book-club-west-of-wicked-by-nikki-st-crowe/
LOCATION:Main Street Reads\, 115 S. Main St.\, Summerville\, SC\, 29483\, United States
CATEGORIES:Book Club,Book Discussion
ATTACH;FMTTYPE=image/png:https://mainstreetreads.com/wp-content/uploads/2026/04/May-19-2026-Romance.png
END:VEVENT
BEGIN:VEVENT
DTSTART;TZID=America/New_York:20261025T163000
DTEND;TZID=America/New_York:20261025T163000
DTSTAMP:20260424T002212
CREATED:20260419T053052Z
LAST-MODIFIED:20260419T192016Z
UID:11896-1792945800-1792945800@mainstreetreads.com
SUMMARY:A THREE-COURT Celebration: Three events\, Three Courts\, One Unforgettable Release!
DESCRIPTION:We’re celebrating A Court of Thorns and Roses series Book Six by Sarah J. Maas with Three events. Three Courts. One unforgettable release. Here’s the lineup! \n\n\n\n\n\n\n\n1. CARDS AGAINST PRYTHIAN\n\n\n\nSunday\, October 25 | 4:30 PM\n\n\n\n$19.95 | LIMITED TO 20 SPOTS – TICKETS HERE \n\n\n\nStart the celebration with a little chaos… \n\n\n\n\n\n\n\nThis intimate\, laugh-filled pre-party is your chance to gather with fellow fans before the big night. Expect irreverent fun\, themed gameplay\, and just enough mischief to set the tone. \n\n\n\nYour Ticket Includes: \n\n\n\n\nPrythian-inspired card gameplay\n\n\n\nLight bites + drinks available\n\n\n\nPrizes and surprises\n\n\n\nA cozy\, small-group fan experience\n\n\n\nEarly opportunity to grab ACOTAR merchandise before the crowds!\n\n\n\n\n✨ Only 20 seats—this one will go fast. \n\n\n\n\n\n\n\n2. NIGHT COURT MIDNIGHT RELEASE\n\n\n\nMonday\, October 26 | 9:00 PM – 12:00 AM\n\n\n\n$39.95 (INCLUDES THE BOOK and MORE) \n\n\n\n\n\n\n\nThe stars align at midnight…Join us in the Night Court as we count down to the official midnight release. When the clock strikes twelve\, you’ll walk away with your copy in hand—along with a night full of magic. \n\n\n\nYOUR TICKET Includes: \n\n\n\n\nFirst Edition copy of Book Six at midnight\n\n\n\n“Starfall” signature drink (mocktail or spirited)\n\n\n\nExclusive themed gifts\n\n\n\nGames\, giveaways\, and immersive fun\n\n\n\n10% off all ACOTAR merchandise\n\n\n\n\nCome dressed for the Night Court... \n\n\n\n\n\n\n\n3. DAWN COURT RELEASE\n\n\n\nTuesday\, October 27 | 7:00 AM (Sunrise 7:34 AM)\n\n\n\n$32 BOOK PREORDER = YOUR ENTRY \n\n\n\n\n\n\n\nA quieter kind of magic…If midnight isn’t your style\, join us at sunrise for a relaxed\, cozy release moment. Grab your first edition on your way to work/school\, or any time on release day. \n\n\n\nImportant:You must preorder your book through Main Street Reads to attend and guarantee release day pickup—your purchase is your ticket to the magic. Pre-order cutoff is August 27th. \n\n\n\nYour pre-order includes: \n\n\n\n\nYour preordered copy ready at our dawn opening. (Doors open 7 am)\n\n\n\nComplimentary “Tamlin’s Tears” (mimosa or mocktail) served ’til noon.\n\n\n\nA calm space to start reading\n\n\n\n\n\n\n\n\nCHOOSE YOUR COURT\n\n\n\n\nCards Against Prythian → small\, social\, and irreverent fun\n\n\n\nNight Court → high-energy\, immersive\, midnight magic release party\n\n\n\nDawn Court → calm\, cozy\, first-light new release reading \n\n\n\n\nWhichever Courts you choose… the magic of Maas awaits.
URL:https://mainstreetreads.com/event/three_court_release/
LOCATION:Main Street Reads\, 115 S. Main St.\, Summerville\, SC\, 29483\, United States
CATEGORIES:Celebration
ATTACH;FMTTYPE=image/png:https://mainstreetreads.com/wp-content/uploads/2026/04/ACOTAR-Events.png
END:VEVENT
END:VCALENDAR